BEGIN:VCALENDAR
VERSION:2.0
PRODID:-//villaflaka.com - ECPv6.5.1.4//NONSGML v1.0//EN
CALSCALE:GREGORIAN
METHOD:PUBLISH
X-WR-CALNAME:villaflaka.com
X-ORIGINAL-URL:https://villaflaka.com
X-WR-CALDESC:évènements pour villaflaka.com
REFRESH-INTERVAL;VALUE=DURATION:PT1H
X-Robots-Tag:noindex
X-PUBLISHED-TTL:PT1H
BEGIN:VTIMEZONE
TZID:Europe/Helsinki
BEGIN:DAYLIGHT
TZOFFSETFROM:+0200
TZOFFSETTO:+0300
TZNAME:EEST
DTSTART:20260329T010000
END:DAYLIGHT
BEGIN:STANDARD
TZOFFSETFROM:+0300
TZOFFSETTO:+0200
TZNAME:EET
DTSTART:20261025T010000
END:STANDARD
END:VTIMEZONE
BEGIN:VEVENT
DTSTART;VALUE=DATE:20260326
DTEND;VALUE=DATE:20261005
DTSTAMP:20260422T130926
CREATED:20251114T093452Z
LAST-MODIFIED:20260326T150150Z
UID:238637-1774483200-1791158399@villaflaka.com
SUMMARY:Stage de Yoga avec Sophie Callige
DESCRIPTION:Après une première édition en 2024\, je suis heureuse de vous embarquer de nouveau avec moi sur l’île de beauté pour un long weekend de yoga à la Villa Flaka à Cargèse.Cet hôtel familial et intimiste\, niché au cœur du maquis et à deux pas de la mer\, a été un véritable coup de cœur pour moi. Un refuge paisible\, où tout invite à ralentir… \nSa végétation luxuriante\, son studio de yoga\, ses chambres spacieuses et décorées avec goût\, sa piscine chauffée et son sauna\, tout est pensé pour offrir un cadre propice à la détente et à la déconnexion !La retraite aura lieu du jeudi 30 avril 2026 au dimanche 03 mai 2026.Au programme : 2 pratiques d’environ 1h30 par jour\, de la nourriture végétarienne\, locale et de saison cuisinée par notre cheffe Marjory et du temps libre pour profiter du lieu et de la nature environnante. \nIl sera également possible de compléter ce weekend par un massage ou drainage lymphatique pendant le séjour\,à réserver à l’avance car les places seront limitées. \nPour réserver : sophie.callige@orange.fr
URL:https://villaflaka.com/evenement/stage-yoga-sophie-callige/
LOCATION:villa flaka\, cargèse\, 20130\, France
ATTACH;FMTTYPE=image/jpeg:https://villaflaka.com/wp-content/uploads/2025/05/IMG_1172.jpg
END:VEVENT
END:VCALENDAR