BEGIN:VCALENDAR\
VERSION:2.0\
PRODID:-//villaflaka.com - ECPv6.5.1.4//NONSGML v1.0//EN\
CALSCALE:GREGORIAN\
METHOD:PUBLISH\
X-ORIGINAL-URL:https://villaflaka.com
X-WR-CALDESC:events for villaflaka.com
REFRESH-INTERVAL;VALUE=DURATION:PT1H
X-Robots-Tag:noindex
X-PUBLISHED-TTL:PT1H
BEGIN:VTIMEZONE
TZID:Europe/Helsinki
BEGIN:DAYLIGHT;
TZOFFSETFROM:+0200;
TZOFFSETTO:+0300;
TZNAME:EEST;
DTSTART:20260329T010000;
END:DAYLIGHT;
BEGIN:STANDARD;
TZOFFSETFROM:+0300
TZOFFSETTO:+0200
TZNAME:EET
DTSTART:20261025T010000
END:STANDARD
END:VTIMEZONE
BEGIN:VEVENT
DTSTART;TZID=Europe/Helsinki:20260417T180000
DTEND;TZID=Europe/Helsinki:20260419T160000
DTSTAMP:20260422T132614
CREATED:20251219T095754Z
LAST-MODIFIED:20251219T101454Z
UID:237524-1776448800-1776614400@villaflaka.com
SUMMARY:FLOW and GLOW retreat
DESCRIPTION:  \nFlow & Glow — Villa Flaka Edition is a wellness weekend with a joyful, refined, and accessible spirit, combining movement, relaxation, music, and nature in a calm and bright setting in Cargèse. \nA getaway designed for: moving without pressure\, letting go of stress\, enjoying high-quality practices\, sharing good times\, taking care of yourself\, simply. \nON THE PROGRAM \n🪩 80s Disco Fitness –  Flashy aerobics outfit required (let’s go all out!)🧘‍♀️ Pilates & Yoga 🌬 Breathwork 🔔 Gong Bath 🌿 Yin Yoga 🥾 Hike through the maquis 🔥 Sauna, pool, free time🥗 Healthy, simple, and delicious brunches & dinners \n👉 Open to all levels👉 Optional massages & Pilates Reformer \nThe team \n  \nDiane (@jaiencorecraque): Fitness coach for over 10 years, Pilates instructor, founder of Kore Studio.Lauriane (@kayayoga): Yoga, Fusion, and Breathwork instructor. Emeline (aka Molly): Former international DJ, co-founder of Villa Flaka for the past 3 years. \n WHAT’S INCLUDED \n\n2 nights’ accommodation at Villa Flaka\nAll group classes\nSauna access\nHealthy brunches & dinners\nMove & Glow signature cocktail\nWeekend group playlist\n\nOPTIONS (by reservation)Wellness massagesPrivate Pilates Reformer classes \n  \nDATESApril 17, 2026 (starting at 4:00 PM) through April 19, 2026 (2:00 PM) \nPRICES \n🔸 EARLY BIRD \n\n€450 / person – shared room\n€550 / person – private room\n\n🔸 REGULAR RATE \n\n€500 / person – shared room\n€600 / person – private room\n\n👉 All-inclusive\, excluding optional extrasTo book: contact@villaflaka.com \n \n  \n  \n  \n  \n  \n  \n\n \n\n  \n  \n  \n\n\n \n\n 
URL:https://villaflaka.com/evenement/flow-glow-retreat/
LOCATION:Villa Flaka, Cargèse, 20130, France\n
CATEGORIES:Yoga\n
ATTACH;FMTTYPE=image/jpeg:https://villaflaka.com/wp-content/uploads/2023/03/1.jpg\n
END:VEVENT\n
END:VCALENDAR